BEGIN:VCALENDAR
VERSION:2.0
PRODID:-//Ride True ADV - ECPv6.15.20//NONSGML v1.0//EN
CALSCALE:GREGORIAN
METHOD:PUBLISH
X-ORIGINAL-URL:https://ridetrueadv.com
X-WR-CALDESC:Eventos para Ride True ADV
REFRESH-INTERVAL;VALUE=DURATION:PT1H
X-Robots-Tag:noindex
X-PUBLISHED-TTL:PT1H
BEGIN:VTIMEZONE
TZID:UTC
BEGIN:STANDARD
TZOFFSETFROM:+0000
TZOFFSETTO:+0000
TZNAME:UTC
DTSTART:20240101T000000
END:STANDARD
END:VTIMEZONE
BEGIN:VTIMEZONE
TZID:Europe/Paris
BEGIN:DAYLIGHT
TZOFFSETFROM:+0100
TZOFFSETTO:+0200
TZNAME:CEST
DTSTART:20230326T010000
END:DAYLIGHT
BEGIN:STANDARD
TZOFFSETFROM:+0200
TZOFFSETTO:+0100
TZNAME:CET
DTSTART:20231029T010000
END:STANDARD
BEGIN:DAYLIGHT
TZOFFSETFROM:+0100
TZOFFSETTO:+0200
TZNAME:CEST
DTSTART:20240331T010000
END:DAYLIGHT
BEGIN:STANDARD
TZOFFSETFROM:+0200
TZOFFSETTO:+0100
TZNAME:CET
DTSTART:20241027T010000
END:STANDARD
BEGIN:DAYLIGHT
TZOFFSETFROM:+0100
TZOFFSETTO:+0200
TZNAME:CEST
DTSTART:20250330T010000
END:DAYLIGHT
BEGIN:STANDARD
TZOFFSETFROM:+0200
TZOFFSETTO:+0100
TZNAME:CET
DTSTART:20251026T010000
END:STANDARD
END:VTIMEZONE
BEGIN:VEVENT
DTSTART;TZID=UTC:20250802T103000
DTEND;TZID=UTC:20250802T193000
DTSTAMP:20260424T032822
CREATED:20250622T153401Z
LAST-MODIFIED:20250727T172810Z
UID:153370-1754130600-1754163000@ridetrueadv.com
SUMMARY:OPEN DAY: WILD Capo Nord info e prenotazioni
DESCRIPTION:Siamo appena rientrati dall’edizione di Luglio del WILD Capo Nord\, la mia 10° volta a Nordkapp in modalità WILD. Sabato 2 agosto\, presso Motoviaggio Store parleremo dell’edizione di Agosto 2025 e delle nuove date 2026. \nLe prenotazioni sono aperte e ci sono ancora posti disponibili. \nVieni a conoscere i tour di Giugno\, Luglio e Agosto\, porta le tue domande\, approfondisci e unisciti a noi per questo splendido viaggio di gruppo. \n\nDATA: sabato 2 Agosto\nDOVE: presso Motoviaggio Store\, Via Piersanti Mattarella 32\, Cintolese\, Monsummano Terme (PT) – 05721757158\nCOME: vieni in auto\, moto\, camper. Ampio parcheggio a 50 metri dallo store\nQUANDO: dalle 10:30 alle 13:30 e dalle 15:30 alle 19:30\n\nPer l’occasione tutti i capi Klim presenti in negozio sono scontati al 25%\n.\nRinfresco e aperitivo offerto da Motoviaggio Store\nTi aspettiamo\, sei il benvenuto! \nASPETTA!  \nHai già deciso di unirti al WILD Capo Nord 2025? Prenotati QUI
URL:https://ridetrueadv.com/event/open-day-wild-capo-nord-info-e-prenotazioni/
LOCATION:Motoviaggio Store\, Via Piersanti Mattarella 32\, Monsummano Terme\, Pistoia\, 51015\, Italy
ATTACH;FMTTYPE=image/jpeg:https://ridetrueadv.com/wp-content/uploads/2025/06/FB_IMG_1753636745565.jpg
ORGANIZER;CN="Ride True ADV":MAILTO:info@ridetrueadv.com
END:VEVENT
BEGIN:VEVENT
DTSTART;TZID=UTC:20250118T103000
DTEND;TZID=UTC:20250118T193000
DTSTAMP:20260424T032822
CREATED:20241227T154247Z
LAST-MODIFIED:20250108T172038Z
UID:153280-1737196200-1737228600@ridetrueadv.com
SUMMARY:OPEN DAY: WILD Capo Nord 2025\, info e prenotazioni
DESCRIPTION:Sabato 18 gennaio\, presso Motoviaggio Store\, presenteremo l’edizione 2025 del WILD Capo Nord. \nLe prenotazioni sono aperte e ci sono ancora posti disponibili. \nVieni a conoscere i tour di Giugno\, Luglio e Agosto 2025\, porta le tue domande\, approfondisci e unisciti a noi per questo splendido viaggio di gruppo. \n\nDATA: sabato 18 Gennaio\nDOVE: presso Motoviaggio Store\, Via Piersanti Mattarella 32\, Cintolese\, Monsummano Terme (PT) – 05721757158\nCOME: vieni in auto\, moto\, camper. Ampio parcheggio a 50 metri dallo store\nQUANDO: dalle 10:30 alle 13:30 e dalle 15:30 alle 19:30\n\nPer l’occasione tutti i capi Klim presenti in negozio sono scontati al 25%\n.\nRinfresco e aperitivo offerto da Motoviaggio Store\nTi aspettiamo\, sei il benvenuto! \nASPETTA!  \nHai già deciso di unirti al WILD Capo Nord 2025? Prenotati QUI
URL:https://ridetrueadv.com/event/open-day-wild-capo-nord-2025-info-e-prenotazioni/
LOCATION:Motoviaggio Store\, Via Piersanti Mattarella 32\, Monsummano Terme\, Pistoia\, 51015\, Italy
ATTACH;FMTTYPE=image/jpeg:https://ridetrueadv.com/wp-content/uploads/2024/12/open-day-wild-capo-nord-2025-motoviaggio-store-gionata-nencini-ride-true-adv-partireper.jpg
ORGANIZER;CN="Ride True ADV":MAILTO:info@ridetrueadv.com
END:VEVENT
BEGIN:VEVENT
DTSTART;TZID=Europe/Paris:20241221T103000
DTEND;TZID=Europe/Paris:20241221T193000
DTSTAMP:20260424T032822
CREATED:20241218T121339Z
LAST-MODIFIED:20241218T144854Z
UID:153249-1734777000-1734809400@ridetrueadv.com
SUMMARY:Open Day WILD Capo Nord 2025
DESCRIPTION:Sabato 21 Dicembre\, presso Motoviaggio Store\, presenteremo l’edizione 2025 del WILD Capo Nord. \nLe prenotazioni sono aperte e ci sono ancora posti disponibili. \nVieni a conoscere i tour di Giugno\, Luglio e Agosto 2025\, porta le tue domande\, approfondisci e unisciti a noi per questo splendido viaggio di gruppo. \n\nDATA: sabato 21 Dicembre\nDOVE: presso Motoviaggio Store\, Via Piersanti Mattarella 32\, Cintolese\, Monsummano Terme (PT) – 05721757158\nCOME: vieni in auto\, moto\, camper. Ampio parcheggio a 50 metri dallo store\nQUANDO: dalle 10:30 alle 13:30 e dalle 15:30 alle 19:30\n\nPer l’occasione tutti i capi Klim presenti in negozio sono scontati al 25%\n.\nRinfresco e aperitivo offerto da Motoviaggio Store\nTi aspettiamo\, sei il benvenuto!
URL:https://ridetrueadv.com/event/open-day-wild-capo-nord-2025/
LOCATION:Motoviaggio Store\, Via Piersanti Mattarella 32\, Monsummano Terme\, Pistoia\, 51015\, Italy
ATTACH;FMTTYPE=image/jpeg:https://ridetrueadv.com/wp-content/uploads/2024/12/open-day-wcn-5.jpg
ORGANIZER;CN="Ride True ADV":MAILTO:info@ridetrueadv.com
END:VEVENT
END:VCALENDAR